BEGIN:VCALENDAR
VERSION:2.0
PRODID:icalendar-ruby
CALSCALE:GREGORIAN
METHOD:PUBLISH
BEGIN:VEVENT
DTSTAMP:20260422T004757Z
UID:23-249206@cclf.ca
DTSTART:20260910T013000Z
DTEND:20260910T033000Z
CLASS:PUBLIC
CREATED:20260313T112548
DESCRIPTION:Men's prayer meeting held in Rick's office in the Admin buildin
 g.
LAST-MODIFIED:20260313T112548
LOCATION:Admin Building
SUMMARY:Men's Prayer & Share
URL;VALUE=URI:https://www.cclf.ca/events/mens-prayer-share/2026-09-09
END:VEVENT
END:VCALENDAR
