BEGIN:VCALENDAR
VERSION:2.0
PRODID:icalendar-ruby
CALSCALE:GREGORIAN
METHOD:PUBLISH
BEGIN:VEVENT
DTSTAMP:20260421T120405Z
UID:23-249199@cclf.ca
DTSTART:20260723T013000Z
DTEND:20260723T033000Z
CLASS:PUBLIC
CREATED:20260313T112548
DESCRIPTION:Men's prayer meeting held in Rick's office in the Admin buildin
 g.
LAST-MODIFIED:20260313T112548
LOCATION:Admin Building
SUMMARY:Men's Prayer & Share
URL;VALUE=URI:https://www.cclf.ca/events/mens-prayer-share/2026-07-22
END:VEVENT
END:VCALENDAR
