BEGIN:VCALENDAR
VERSION:2.0
PRODID:icalendar-ruby
CALSCALE:GREGORIAN
METHOD:PUBLISH
BEGIN:VEVENT
DTSTAMP:20260421T050557Z
UID:14-249021@cclf.ca
DTSTART:20260806T013000Z
DTEND:20260806T033000Z
CLASS:PUBLIC
CREATED:20260313T112346
DESCRIPTION:Christian Life Youth is a community of students who seek to kno
 w God and make Him known. Our regular weekly gatherings include fun group 
 games\, worship\, Bible teaching\, foxholes (small groups in which one can
  be completely honest and heard) and prayer. Outside of weekly\, Wednesday
  gatherings\, we also engage in community service\, several annual confere
 nces\, and more.  Ages 13 - 17 are welcome. CL Youth meets in the main ch
 urch building.\nFor more info click here.
LAST-MODIFIED:20260313T112346
LOCATION:CCLF Church
SUMMARY:Christian Life Youth
URL;VALUE=URI:https://www.cclf.ca/events/christian-life-youth/2026-08-05
ATTACH;FILENAME=Youth.jpg;FMTTYPE=image/jpeg:https://dq5pwpg1q8ru0.cloudfro
 nt.net/2026/03/13/17/55/21/3854eeec-7fce-45e6-9b22-32940ddfbba5/Youth.jpg
END:VEVENT
END:VCALENDAR
